BEGIN:VCALENDAR
VERSION:2.0
PRODID:-//familiesinspiringfamilies.org//NONSGML kigkonsult.se iCalcreator 
 2.30.10//
CALSCALE:GREGORIAN
METHOD:PUBLISH
UID:e75e7585-c7bc-4360-9d59-3d960ea1896b
X-WR-CALDESC:Families involved with Families Inspiring Families enjoyed a t
 rip to the Zoo.  A sack lunch was provided as well as admission.
X-WR-RELCALID:f0d9538b1056eb6e9e9484209c2d79fd
X-WR-TIMEZONE:America/Chicago
BEGIN:VTIMEZONE
TZID:America/Chicago
BEGIN:STANDARD
TZNAME:CST
DTSTART:20181104T020000
TZOFFSETFROM:-0500
TZOFFSETTO:-0600
RDATE:20191103T020000
RDATE:20201101T020000
END:STANDARD
BEGIN:DAYLIGHT
TZNAME:CDT
DTSTART:20190310T020000
TZOFFSETFROM:-0600
TZOFFSETTO:-0500
RDATE:20200308T020000
END:DAYLIGHT
END:VTIMEZONE
BEGIN:VEVENT
UID:afeb4e5c-edc5-490b-8f45-e68d4b6ec8f7
DTSTAMP:20260419T191514Z
DESCRIPTION:Families involved with Families Inspiring Families enjoyed a tr
 ip to the Zoo.  A sack lunch was provided as well as admission.
DTSTART;TZID=America/Chicago:20190724T170000
DTEND;TZID=America/Chicago:20190724T200000
LOCATION:Lincoln Children Zoo
SUMMARY:An Evening at the Zoo
END:VEVENT
END:VCALENDAR
